BEGIN:VCALENDAR
VERSION:2.0
PRODID:-//Praise &amp; Worship Center - ECPv6.15.20//NONSGML v1.0//EN
CALSCALE:GREGORIAN
METHOD:PUBLISH
X-WR-CALNAME:Praise &amp; Worship Center
X-ORIGINAL-URL:https://www.praiseandworshipcenter.net
X-WR-CALDESC:Events for Praise &amp; Worship Center
REFRESH-INTERVAL;VALUE=DURATION:PT1H
X-Robots-Tag:noindex
X-PUBLISHED-TTL:PT1H
BEGIN:VTIMEZONE
TZID:America/Phoenix
BEGIN:STANDARD
TZOFFSETFROM:-0700
TZOFFSETTO:-0700
TZNAME:MST
DTSTART:20250101T000000
END:STANDARD
END:VTIMEZONE
BEGIN:VEVENT
DTSTART;TZID=America/Phoenix:20260301T094500
DTEND;TZID=America/Phoenix:20260301T103000
DTSTAMP:20260422T030048
CREATED:20260223T211932Z
LAST-MODIFIED:20260223T211932Z
UID:10531-1772358300-1772361000@www.praiseandworshipcenter.net
SUMMARY:Children's Ministry
DESCRIPTION:
URL:https://www.praiseandworshipcenter.net/event/childrens-ministry-75/
END:VEVENT
BEGIN:VEVENT
DTSTART;TZID=America/Phoenix:20260301T100000
DTEND;TZID=America/Phoenix:20260301T110000
DTSTAMP:20260422T030048
CREATED:20260223T211925Z
LAST-MODIFIED:20260223T211925Z
UID:10526-1772359200-1772362800@www.praiseandworshipcenter.net
SUMMARY:Sunday Service: Live or Facebook
DESCRIPTION:
URL:https://www.praiseandworshipcenter.net/event/sunday-service-live-or-facebook-169/
END:VEVENT
BEGIN:VEVENT
DTSTART;TZID=America/Phoenix:20260302T170000
DTEND;TZID=America/Phoenix:20260302T183000
DTSTAMP:20260422T030048
CREATED:20260223T211932Z
LAST-MODIFIED:20260223T211932Z
UID:10532-1772470800-1772476200@www.praiseandworshipcenter.net
SUMMARY:Deacon Training
DESCRIPTION:
URL:https://www.praiseandworshipcenter.net/event/deacon-training-11/
END:VEVENT
BEGIN:VEVENT
DTSTART;TZID=America/Phoenix:20260302T183000
DTEND;TZID=America/Phoenix:20260302T203000
DTSTAMP:20260422T030048
CREATED:20260223T211933Z
LAST-MODIFIED:20260223T211933Z
UID:10533-1772476200-1772483400@www.praiseandworshipcenter.net
SUMMARY:Deacon Meeting
DESCRIPTION:
URL:https://www.praiseandworshipcenter.net/event/deacon-meeting-4/
END:VEVENT
BEGIN:VEVENT
DTSTART;TZID=America/Phoenix:20260303T080000
DTEND;TZID=America/Phoenix:20260303T130000
DTSTAMP:20260422T030048
CREATED:20260223T211933Z
LAST-MODIFIED:20260223T211933Z
UID:10534-1772524800-1772542800@www.praiseandworshipcenter.net
SUMMARY:Meals to Grow
DESCRIPTION:
URL:https://www.praiseandworshipcenter.net/event/meals-to-grow-280/
END:VEVENT
BEGIN:VEVENT
DTSTART;TZID=America/Phoenix:20260304T080000
DTEND;TZID=America/Phoenix:20260304T130000
DTSTAMP:20260422T030048
CREATED:20260223T211933Z
LAST-MODIFIED:20260223T211933Z
UID:10535-1772611200-1772629200@www.praiseandworshipcenter.net
SUMMARY:Meals to Grow
DESCRIPTION:
URL:https://www.praiseandworshipcenter.net/event/meals-to-grow-281/
END:VEVENT
BEGIN:VEVENT
DTSTART;TZID=America/Phoenix:20260304T173000
DTEND;TZID=America/Phoenix:20260304T183000
DTSTAMP:20260422T030048
CREATED:20260223T211948Z
LAST-MODIFIED:20260223T211948Z
UID:10536-1772645400-1772649000@www.praiseandworshipcenter.net
SUMMARY:Soup and Bread
DESCRIPTION:
URL:https://www.praiseandworshipcenter.net/event/soup-and-bread/
END:VEVENT
BEGIN:VEVENT
DTSTART;TZID=America/Phoenix:20260304T190000
DTEND;TZID=America/Phoenix:20260304T203000
DTSTAMP:20260422T030048
CREATED:20260223T211948Z
LAST-MODIFIED:20260223T211948Z
UID:10537-1772650800-1772656200@www.praiseandworshipcenter.net
SUMMARY:Lenten Book Club: The Prodigal Son
DESCRIPTION:
URL:https://www.praiseandworshipcenter.net/event/lenten-book-club-the-prodigal-son-2/
END:VEVENT
BEGIN:VEVENT
DTSTART;TZID=America/Phoenix:20260306T093000
DTEND;TZID=America/Phoenix:20260306T103000
DTSTAMP:20260422T030048
CREATED:20260223T211948Z
LAST-MODIFIED:20260223T211948Z
UID:10538-1772789400-1772793000@www.praiseandworshipcenter.net
SUMMARY:Lenten Prayer Reflection
DESCRIPTION:
URL:https://www.praiseandworshipcenter.net/event/lenten-prayer-reflection-2/
END:VEVENT
BEGIN:VEVENT
DTSTART;TZID=America/Phoenix:20260306T183000
DTEND;TZID=America/Phoenix:20260306T200000
DTSTAMP:20260422T030048
CREATED:20260223T211948Z
LAST-MODIFIED:20260223T211948Z
UID:10539-1772821800-1772827200@www.praiseandworshipcenter.net
SUMMARY:Marriage Enrichment
DESCRIPTION:
URL:https://www.praiseandworshipcenter.net/event/marriage-enrichment-31/
END:VEVENT
BEGIN:VEVENT
DTSTART;TZID=America/Phoenix:20260307T090000
DTEND;TZID=America/Phoenix:20260307T103000
DTSTAMP:20260422T030048
CREATED:20260223T211948Z
LAST-MODIFIED:20260223T211948Z
UID:10540-1772874000-1772879400@www.praiseandworshipcenter.net
SUMMARY:PWC Men's Fellowship
DESCRIPTION:
URL:https://www.praiseandworshipcenter.net/event/pwc-mens-fellowship-6/
END:VEVENT
BEGIN:VEVENT
DTSTART;TZID=America/Phoenix:20260307T090000
DTEND;TZID=America/Phoenix:20260307T110000
DTSTAMP:20260422T030048
CREATED:20260223T212051Z
LAST-MODIFIED:20260223T212051Z
UID:10541-1772874000-1772881200@www.praiseandworshipcenter.net
SUMMARY:Women of Faith Ministry
DESCRIPTION:
URL:https://www.praiseandworshipcenter.net/event/women-of-faith-ministry/
END:VEVENT
BEGIN:VEVENT
DTSTART;TZID=America/Phoenix:20260308T094500
DTEND;TZID=America/Phoenix:20260308T103000
DTSTAMP:20260422T030048
CREATED:20260223T212052Z
LAST-MODIFIED:20260223T212052Z
UID:10542-1772963100-1772965800@www.praiseandworshipcenter.net
SUMMARY:Children's Ministry
DESCRIPTION:
URL:https://www.praiseandworshipcenter.net/event/childrens-ministry-76/
END:VEVENT
BEGIN:VEVENT
DTSTART;TZID=America/Phoenix:20260308T100000
DTEND;TZID=America/Phoenix:20260308T110000
DTSTAMP:20260422T030048
CREATED:20260223T211925Z
LAST-MODIFIED:20260223T211925Z
UID:10527-1772964000-1772967600@www.praiseandworshipcenter.net
SUMMARY:Sunday Service: Live or Facebook
DESCRIPTION:
URL:https://www.praiseandworshipcenter.net/event/sunday-service-live-or-facebook-170/
END:VEVENT
BEGIN:VEVENT
DTSTART;TZID=America/Phoenix:20260309T170000
DTEND;TZID=America/Phoenix:20260309T183000
DTSTAMP:20260422T030048
CREATED:20260223T212052Z
LAST-MODIFIED:20260223T212052Z
UID:10543-1773075600-1773081000@www.praiseandworshipcenter.net
SUMMARY:Deacon Training
DESCRIPTION:
URL:https://www.praiseandworshipcenter.net/event/deacon-training-12/
END:VEVENT
BEGIN:VEVENT
DTSTART;TZID=America/Phoenix:20260310T080000
DTEND;TZID=America/Phoenix:20260310T130000
DTSTAMP:20260422T030048
CREATED:20260223T212052Z
LAST-MODIFIED:20260223T212052Z
UID:10544-1773129600-1773147600@www.praiseandworshipcenter.net
SUMMARY:Meals to Grow
DESCRIPTION:
URL:https://www.praiseandworshipcenter.net/event/meals-to-grow-282/
END:VEVENT
BEGIN:VEVENT
DTSTART;TZID=America/Phoenix:20260311T080000
DTEND;TZID=America/Phoenix:20260311T130000
DTSTAMP:20260422T030048
CREATED:20260223T212052Z
LAST-MODIFIED:20260223T212052Z
UID:10545-1773216000-1773234000@www.praiseandworshipcenter.net
SUMMARY:Meals to Grow
DESCRIPTION:
URL:https://www.praiseandworshipcenter.net/event/meals-to-grow-283/
END:VEVENT
BEGIN:VEVENT
DTSTART;TZID=America/Phoenix:20260311T173000
DTEND;TZID=America/Phoenix:20260311T183000
DTSTAMP:20260422T030048
CREATED:20260223T212119Z
LAST-MODIFIED:20260223T212119Z
UID:10546-1773250200-1773253800@www.praiseandworshipcenter.net
SUMMARY:Soup and Bread
DESCRIPTION:
URL:https://www.praiseandworshipcenter.net/event/soup-and-bread-2/
END:VEVENT
BEGIN:VEVENT
DTSTART;TZID=America/Phoenix:20260311T190000
DTEND;TZID=America/Phoenix:20260311T203000
DTSTAMP:20260422T030048
CREATED:20260223T212120Z
LAST-MODIFIED:20260223T212120Z
UID:10547-1773255600-1773261000@www.praiseandworshipcenter.net
SUMMARY:Lenten Book Club: The Prodigal Son
DESCRIPTION:
URL:https://www.praiseandworshipcenter.net/event/lenten-book-club-the-prodigal-son-3/
END:VEVENT
BEGIN:VEVENT
DTSTART;TZID=America/Phoenix:20260313T093000
DTEND;TZID=America/Phoenix:20260313T223000
DTSTAMP:20260422T030048
CREATED:20260223T212120Z
LAST-MODIFIED:20260223T212120Z
UID:10548-1773394200-1773441000@www.praiseandworshipcenter.net
SUMMARY:Lenten Prayer Reflection
DESCRIPTION:
URL:https://www.praiseandworshipcenter.net/event/lenten-prayer-reflection-3/
END:VEVENT
BEGIN:VEVENT
DTSTART;TZID=America/Phoenix:20260315T100000
DTEND;TZID=America/Phoenix:20260315T110000
DTSTAMP:20260422T030048
CREATED:20260223T211925Z
LAST-MODIFIED:20260223T211925Z
UID:10528-1773568800-1773572400@www.praiseandworshipcenter.net
SUMMARY:Sunday Service: Live or Facebook
DESCRIPTION:
URL:https://www.praiseandworshipcenter.net/event/sunday-service-live-or-facebook-171/
END:VEVENT
BEGIN:VEVENT
DTSTART;TZID=America/Phoenix:20260316T170000
DTEND;TZID=America/Phoenix:20260316T183000
DTSTAMP:20260422T030048
CREATED:20260223T212120Z
LAST-MODIFIED:20260223T212120Z
UID:10549-1773680400-1773685800@www.praiseandworshipcenter.net
SUMMARY:Deacon Training
DESCRIPTION:
URL:https://www.praiseandworshipcenter.net/event/deacon-training-13/
END:VEVENT
BEGIN:VEVENT
DTSTART;TZID=America/Phoenix:20260317T080000
DTEND;TZID=America/Phoenix:20260317T130000
DTSTAMP:20260422T030048
CREATED:20260223T212120Z
LAST-MODIFIED:20260223T212120Z
UID:10550-1773734400-1773752400@www.praiseandworshipcenter.net
SUMMARY:Meals to Grow
DESCRIPTION:
URL:https://www.praiseandworshipcenter.net/event/meals-to-grow-284/
END:VEVENT
BEGIN:VEVENT
DTSTART;TZID=America/Phoenix:20260318T080000
DTEND;TZID=America/Phoenix:20260318T130000
DTSTAMP:20260422T030048
CREATED:20260223T212135Z
LAST-MODIFIED:20260223T212135Z
UID:10551-1773820800-1773838800@www.praiseandworshipcenter.net
SUMMARY:Meals to Grow
DESCRIPTION:
URL:https://www.praiseandworshipcenter.net/event/meals-to-grow-285/
END:VEVENT
BEGIN:VEVENT
DTSTART;TZID=America/Phoenix:20260318T173000
DTEND;TZID=America/Phoenix:20260318T183000
DTSTAMP:20260422T030048
CREATED:20260223T212135Z
LAST-MODIFIED:20260223T212135Z
UID:10552-1773855000-1773858600@www.praiseandworshipcenter.net
SUMMARY:Soup and Bread
DESCRIPTION:
URL:https://www.praiseandworshipcenter.net/event/soup-and-bread-3/
END:VEVENT
BEGIN:VEVENT
DTSTART;TZID=America/Phoenix:20260318T190000
DTEND;TZID=America/Phoenix:20260318T203000
DTSTAMP:20260422T030048
CREATED:20260223T212135Z
LAST-MODIFIED:20260223T212135Z
UID:10553-1773860400-1773865800@www.praiseandworshipcenter.net
SUMMARY:Lenten Book Club: The Prodigal Son
DESCRIPTION:
URL:https://www.praiseandworshipcenter.net/event/lenten-book-club-the-prodigal-son-4/
END:VEVENT
BEGIN:VEVENT
DTSTART;TZID=America/Phoenix:20260320T093000
DTEND;TZID=America/Phoenix:20260320T103000
DTSTAMP:20260422T030048
CREATED:20260223T212135Z
LAST-MODIFIED:20260223T212135Z
UID:10554-1773999000-1774002600@www.praiseandworshipcenter.net
SUMMARY:Lenten Prayer Reflection
DESCRIPTION:
URL:https://www.praiseandworshipcenter.net/event/lenten-prayer-reflection-4/
END:VEVENT
BEGIN:VEVENT
DTSTART;TZID=America/Phoenix:20260321T090000
DTEND;TZID=America/Phoenix:20260321T103000
DTSTAMP:20260422T030048
CREATED:20260223T212136Z
LAST-MODIFIED:20260223T212136Z
UID:10555-1774083600-1774089000@www.praiseandworshipcenter.net
SUMMARY:PWC Men's Fellowship
DESCRIPTION:
URL:https://www.praiseandworshipcenter.net/event/pwc-mens-fellowship-7/
END:VEVENT
BEGIN:VEVENT
DTSTART;TZID=America/Phoenix:20260321T090000
DTEND;TZID=America/Phoenix:20260321T110000
DTSTAMP:20260422T030048
CREATED:20260223T212150Z
LAST-MODIFIED:20260223T212150Z
UID:10556-1774083600-1774090800@www.praiseandworshipcenter.net
SUMMARY:Women of Faith Ministry
DESCRIPTION:
URL:https://www.praiseandworshipcenter.net/event/women-of-faith-ministry-2/
END:VEVENT
BEGIN:VEVENT
DTSTART;TZID=America/Phoenix:20260322T094500
DTEND;TZID=America/Phoenix:20260322T103000
DTSTAMP:20260422T030048
CREATED:20260223T212150Z
LAST-MODIFIED:20260223T212150Z
UID:10557-1774172700-1774175400@www.praiseandworshipcenter.net
SUMMARY:Children's Ministry
DESCRIPTION:
URL:https://www.praiseandworshipcenter.net/event/childrens-ministry-77/
END:VEVENT
END:VCALENDAR